BEGIN:VCALENDAR
VERSION:2.0
PRODID:-//Heroes of the Treasure coast  - ECPv6.15.20//NONSGML v1.0//EN
CALSCALE:GREGORIAN
METHOD:PUBLISH
X-WR-CALNAME:Heroes of the Treasure coast 
X-ORIGINAL-URL:https://heroestc.com
X-WR-CALDESC:Events for Heroes of the Treasure coast 
REFRESH-INTERVAL;VALUE=DURATION:PT1H
X-Robots-Tag:noindex
X-PUBLISHED-TTL:PT1H
BEGIN:VTIMEZONE
TZID:America/New_York
BEGIN:DAYLIGHT
TZOFFSETFROM:-0500
TZOFFSETTO:-0400
TZNAME:EDT
DTSTART:20240310T070000
END:DAYLIGHT
BEGIN:STANDARD
TZOFFSETFROM:-0400
TZOFFSETTO:-0500
TZNAME:EST
DTSTART:20241103T060000
END:STANDARD
BEGIN:DAYLIGHT
TZOFFSETFROM:-0500
TZOFFSETTO:-0400
TZNAME:EDT
DTSTART:20250309T070000
END:DAYLIGHT
BEGIN:STANDARD
TZOFFSETFROM:-0400
TZOFFSETTO:-0500
TZNAME:EST
DTSTART:20251102T060000
END:STANDARD
BEGIN:DAYLIGHT
TZOFFSETFROM:-0500
TZOFFSETTO:-0400
TZNAME:EDT
DTSTART:20260308T070000
END:DAYLIGHT
BEGIN:STANDARD
TZOFFSETFROM:-0400
TZOFFSETTO:-0500
TZNAME:EST
DTSTART:20261101T060000
END:STANDARD
END:VTIMEZONE
BEGIN:VEVENT
DTSTART;VALUE=DATE:20251019
DTEND;VALUE=DATE:20251020
DTSTAMP:20260419T081002
CREATED:20251119T203147Z
LAST-MODIFIED:20251120T000309Z
UID:930-1760832000-1760918399@heroestc.com
SUMMARY:CAPTAIN JOHN KING
DESCRIPTION:This month we honor Captain John King for his outstanding leadership and dedication to training. Recognized by Division Chief Donny Stefani\, Captain King leads with humility\, consistency\, and a passion for developing others\, setting the standard for what true service and mentorship look like in our community.
URL:https://heroestc.com/event/captain-john-king/
CATEGORIES:Hero of the Month
ATTACH;FMTTYPE=image/webp:https://heroestc.com/wp-content/uploads/2025/11/john-king-photo.webp
END:VEVENT
END:VCALENDAR